BEGIN:VCALENDAR
VERSION:2.0
PRODID:-//wp-events-plugin.com//7.2.3.1//EN
TZID:America/Los_Angeles
X-WR-TIMEZONE:America/Los_Angeles
BEGIN:VEVENT
UID:17329@fakce.org
DTSTART;TZID=America/Los_Angeles:20250110T180000
DTEND;TZID=America/Los_Angeles:20250124T210000
DTSTAMP:20250107T165848Z
URL:https://fakce.org/events/canceled-tips-810z-2025-01-10/
SUMMARY:Canceled| TIPS #810Z
DESCRIPTION:**This Series Has Been Canceled**\nTIPS is the 12-hour pre-serv
 ice training program that is required prior to being approved as a Resourc
 e Parent by the County of San Diego.  The TIPS training consists of 4\, 3
 -hour training sessions.\n\nYou are registering for Class 810z. The dates 
 for each of the 4 sessions are as follows:\n\nSession # 1 | Friday\, Janua
 ry 10\, 2025\nSession # 2 | Wednesday\, January 15\, 2025\nSession # 3 | W
 ednesday\, January 22\, 2025\nSession # 4 | Friday\,  January 24\, 2025\n
 \nYou will receive an email confirmation of your registration. The email 
 will provide you with the first date of the class\, as well as the time an
 d location. The dates for sessions 2\, 3\, and 4 will not be provided. P
 lease make a note of those dates or reference the main TIPS page- Click h
 ere.\n\n***Please Note: This TIPS class will be facilitated on the Zoom p
 latform.\nInternet access and access to a computer/laptop/tablet/smartphon
 e is required to attend.\nWe kindly request that participants avoid using 
 distracting virtual backgrounds. For privacy\, we recommend using the blur
  feature instead.\nYou cannot take this class in a vehicle.\nThe Zoom link
  to attend this class will be provided via email.\nPlease follow the link 
 below for a brief tutorial on how to sign up for a free Zoom account.\nZoo
 m User Guide
ATTACH;FMTTYPE=image/jpeg:https://fakce.org/wp-content/uploads/2016/08/kid
 s-·-kids-·-kids.jpg
CATEGORIES:Classes,Online Classes,TIPS Classes,TIPS Sessions
LOCATION:Zoom\, 0000 Zoom \, San Diego\, United States
X-APPLE-STRUCTURED-LOCATION;VALUE=URI;X-ADDRESS=0000 Zoom \, San Diego\, Un
 ited States;X-APPLE-RADIUS=100;X-TITLE=Zoom:geo:0,0
END:VEVENT
BEGIN:VTIMEZONE
TZID:America/Los_Angeles
X-LIC-LOCATION:America/Los_Angeles
BEGIN:STANDARD
DTSTART:20241103T010000
TZOFFSETFROM:-0700
TZOFFSETTO:-0800
TZNAME:PST
END:STANDARD
END:VTIMEZONE
END:VCALENDAR