BEGIN:VCALENDAR
VERSION:2.0
PRODID:-//wp-events-plugin.com//7.2.3.1//EN
TZID:America/Los_Angeles
X-WR-TIMEZONE:America/Los_Angeles
BEGIN:VEVENT
UID:17248@fakce.org
DTSTART;TZID=America/Los_Angeles:20241112T180000
DTEND;TZID=America/Los_Angeles:20241121T210000
DTSTAMP:20241108T004035Z
URL:https://fakce.org/events/canceled-tips-797z-2024-11-12/
SUMMARY:Canceled | TIPS #797Z
DESCRIPTION:**This class has been canceled**\nTIPS is the 12-hour pre-servi
 ce training program that is required prior to being approved as a Resource
  Parent by the County of San Diego.  The TIPS training consists of 4\, 3-
 hour training sessions.\n\nYou are registering for Class 797Z. The dates f
 or each of the 4 sessions are as follows:\n\nSession # 1 | Tuesday\, Novem
 ber 12\, 2024\nSession # 2 | Thursday\, November 14\, 2024\nSession # 3 | 
 Tuesday\, November 19\, 2024\nSession # 4 | Tuesday\, November 21\, 2024\n
 \nYou will receive a confirmation of your registration by email.  The ema
 il will provide you with the first date of the class\, as well as the time
  and location. The dates for sessions 2\, 3\, and 4 will not be provided.
   Please make note of those dates or reference the main TIPS page\n***Ple
 ase Note: This TIPS class will be facilitated on the  Zoom platform.\n In
 ternet access and access to a computer/laptop/tablet/smartphone is require
 d to attend.\nThe link to attend this class will be provided via email.\nP
 lease follow the link below for a brief tutorial on how to sign up for a f
 ree Zoom account.\nZoom User Guide
ATTACH;FMTTYPE=image/jpeg:https://fakce.org/wp-content/uploads/2016/08/kid
 s-·-kids-·-kids.jpg
CATEGORIES:Classes,Online Classes,TIPS Classes,TIPS Sessions
LOCATION:Zoom\, 0000 Zoom \, San Diego\, United States
X-APPLE-STRUCTURED-LOCATION;VALUE=URI;X-ADDRESS=0000 Zoom \, San Diego\, Un
 ited States;X-APPLE-RADIUS=100;X-TITLE=Zoom:geo:0,0
END:VEVENT
BEGIN:VTIMEZONE
TZID:America/Los_Angeles
X-LIC-LOCATION:America/Los_Angeles
BEGIN:STANDARD
DTSTART:20241103T010000
TZOFFSETFROM:-0700
TZOFFSETTO:-0800
TZNAME:PST
END:STANDARD
END:VTIMEZONE
END:VCALENDAR