BEGIN:VCALENDAR
VERSION:2.0
PRODID:-//wp-events-plugin.com//7.2.3.1//EN
TZID:America/Los_Angeles
X-WR-TIMEZONE:America/Los_Angeles
BEGIN:VEVENT
UID:17247@fakce.org
DTSTART;TZID=America/Los_Angeles:20241108T180000
DTEND;TZID=America/Los_Angeles:20241206T210000
DTSTAMP:20241030T162515Z
URL:https://fakce.org/events/canceled-tips-796z-2024-11-08/
SUMMARY:Canceled| TIPS #796Z
DESCRIPTION:***This series has been canceled***\nTIPS is the 12-hour pre-se
 rvice training program that is required prior to being approved as a Resou
 rce Parent by the County of San Diego.  The TIPS training consists of 4\,
  3-hour training sessions.\n\nYou are registering for Class 796z. The date
 s for each of the 4 sessions are as follows:\n\nSession # 1 | Friday\, Nov
 ember 8\, 2024\nSession # 2 | Friday\, November 15\, 2024\nSession # 3 | F
 riday\, November 22\, 2024\nSession # 4 | Friday\,  December 6\, 2024\n\n
 You will receive a confirmation of your registration by email.  The email
  will provide you with the first date of the class\, as well as the time a
 nd location. The dates for sessions 2\, 3\, and 4 will not be provided.  
 Please make a note of those dates or reference the main TIPS page.\n\n***P
 lease Note: This TIPS class will be facilitated on the Zoom platform.\n In
 ternet access and access to a computer/laptop/tablet/smartphone is require
 d to attend.\nThe link to attend this class will be provided via email.\nP
 lease follow the link below for a brief tutorial on how to sign up for a f
 ree Zoom account.\nZoom User Guide
ATTACH;FMTTYPE=image/jpeg:https://fakce.org/wp-content/uploads/2016/08/kid
 s-·-kids-·-kids.jpg
CATEGORIES:Classes,Online Classes,TIPS Classes,TIPS Sessions
LOCATION:Zoom\, 0000 Zoom \, San Diego\, United States
X-APPLE-STRUCTURED-LOCATION;VALUE=URI;X-ADDRESS=0000 Zoom \, San Diego\, Un
 ited States;X-APPLE-RADIUS=100;X-TITLE=Zoom:geo:0,0
END:VEVENT
BEGIN:VTIMEZONE
TZID:America/Los_Angeles
X-LIC-LOCATION:America/Los_Angeles
BEGIN:STANDARD
DTSTART:20241103T010000
TZOFFSETFROM:-0700
TZOFFSETTO:-0800
TZNAME:PST
END:STANDARD
END:VTIMEZONE
END:VCALENDAR