BEGIN:VCALENDAR
VERSION:2.0
PRODID:-//wp-events-plugin.com//7.2.3.1//EN
TZID:America/Los_Angeles
X-WR-TIMEZONE:America/Los_Angeles
BEGIN:VEVENT
UID:17069@fakce.org
DTSTART;TZID=America/Los_Angeles:20240718T180000
DTEND;TZID=America/Los_Angeles:20240730T210000
DTSTAMP:20240716T200401Z
URL:https://fakce.org/events/canceled-tips-757z-2024-07-18/
SUMMARY:Canceled | TIPS #757Z
DESCRIPTION:**This class has been canceled**\n&nbsp\;\n\nTIPS is the 12-hou
 r pre-service training program that is required prior to being approved as
  a Resource Parent by the County of San Diego.  The TIPS training consist
 s of 4\, 3-hour training sessions.\n\nYou are registering for Class 757z. 
 The dates for each of the 4 sessions are as follows:\n\nSession # 1 | Thur
 sday\, July 18\, 2024\nSession # 2 | Tuesday\, July 23\, 2024\nSession # 3
  | Thursday\, July 25\, 2024\nSession # 4 | Tuesday\, July 30\, 2024\n\nYo
 u will receive a confirmation of your registration by email.  The email w
 ill provide you with the first date of the class\, as well as the time and
  location. The dates for sessions 2\, 3\, and 4 will not be provided.  Pl
 ease make note of those dates or reference the main TIPS page\n\n***Please
  Note: This TIPS class will be facilitated on the online platform called Z
 oom. Internet access and access to a computer/laptop/tablet/smartphone is 
 required to attend.\nThe link to attend this class will be provided at reg
 istration.\nPlease follow the link below for a brief tutorial on how to si
 gn up for a free Zoom account.\nZoom User Guide
ATTACH;FMTTYPE=image/jpeg:https://fakce.org/wp-content/uploads/2016/08/kid
 s-·-kids-·-kids.jpg
CATEGORIES:Classes,Online Classes,TIPS Classes,TIPS Sessions
LOCATION:Zoom\, 0000 Zoom \, San Diego\, United States
X-APPLE-STRUCTURED-LOCATION;VALUE=URI;X-ADDRESS=0000 Zoom \, San Diego\, Un
 ited States;X-APPLE-RADIUS=100;X-TITLE=Zoom:geo:0,0
END:VEVENT
BEGIN:VTIMEZONE
TZID:America/Los_Angeles
X-LIC-LOCATION:America/Los_Angeles
BEGIN:DAYLIGHT
DTSTART:20240310T030000
TZOFFSETFROM:-0800
TZOFFSETTO:-0700
TZNAME:PDT
END:DAYLIGHT
END:VTIMEZONE
END:VCALENDAR