BEGIN:VCALENDAR
VERSION:2.0
PRODID:-//wp-events-plugin.com//7.2.3.1//EN
TZID:America/Los_Angeles
X-WR-TIMEZONE:America/Los_Angeles
BEGIN:VEVENT
UID:14798@fakce.org
DTSTART;TZID=America/Los_Angeles:20221118T180000
DTEND;TZID=America/Los_Angeles:20221216T210000
DTSTAMP:20221117T002230Z
URL:https://fakce.org/events/canceled-tips-576z-2022-11-18/
SUMMARY:Canceled | TIPS #576Z
DESCRIPTION:***This series has been canceled***\nTIPS is the 12-hour pre-se
 rvice training program that is required prior to being approved as a Resou
 rce Parent by the County of San Diego.  The TIPS training consists of 4\,
  3-hour training sessions.\n\nYou are registering for Class 576Z. The date
 s for each of the 4 sessions are as follows:\n\nSession # 1 | Friday\, Nov
 ember 18\, 2022\nSession # 2 | Friday\, December 02\, 2022\nSession # 3 | 
 Friday\, December 09\, 2022\nSession # 4 | Friday\, December 16\, 2022\n\n
 You will receive a confirmation of your registration by email.  The email
  will provide you with the first date on the class\, as well as the time a
 nd location. The dates for sessions 2\, 3 and 4 will not be provided.  P
 lease make note of those dates or reference the main TIPS page\n\n***Pleas
 e Note: This TIPS class will be facilitated on the online platform called 
 Zoom. Internet access and access to a computer/laptop/tablet/smartphone is
  required to attend.\nThe link to attend this class will be provided at re
 gistration.\nPlease follow the link below for a brief tutorial on how to s
 ign up for a free Zoom account.\nZoom User Guide
ATTACH;FMTTYPE=image/jpeg:https://fakce.org/wp-content/uploads/2016/08/kid
 s-·-kids-·-kids.jpg
CATEGORIES:Classes,Online Classes,TIPS Classes,TIPS Sessions
LOCATION:Zoom\, 0000 Zoom \, San Diego\, United States
X-APPLE-STRUCTURED-LOCATION;VALUE=URI;X-ADDRESS=0000 Zoom \, San Diego\, Un
 ited States;X-APPLE-RADIUS=100;X-TITLE=Zoom:geo:0,0
END:VEVENT
BEGIN:VTIMEZONE
TZID:America/Los_Angeles
X-LIC-LOCATION:America/Los_Angeles
BEGIN:STANDARD
DTSTART:20221106T010000
TZOFFSETFROM:-0700
TZOFFSETTO:-0800
TZNAME:PST
END:STANDARD
END:VTIMEZONE
END:VCALENDAR