BEGIN:VCALENDAR
VERSION:2.0
PRODID:-//wp-events-plugin.com//7.2.3.1//EN
TZID:America/Los_Angeles
X-WR-TIMEZONE:America/Los_Angeles
BEGIN:VEVENT
UID:14792@fakce.org
DTSTART;TZID=America/Los_Angeles:20221031T180000
DTEND;TZID=America/Los_Angeles:20221109T210000
DTSTAMP:20221028T180630Z
URL:https://fakce.org/events/canceled-tips-571z-2022-10-31/
SUMMARY:Canceled | TIPS #571Z
DESCRIPTION:***This class has been canceled***\nTIPS is the 12-hour pre-ser
 vice training program that is required prior to being approved as a Resour
 ce Parent by the County of San Diego.  The TIPS training consists of 4\, 
 3-hour training sessions.\n\nYou are registering for Class 571Z. The dates
  for each of the 4 sessions are as follows:\n\nSession # 1 | Monday\, Octo
 ber 31\, 2022\nSession # 2 | Wednesday\, November 02\, 2022\nSession # 3 |
  Monday\, November 07\, 2022\nSession # 4 | Wednesday\, November 09\, 2022
 \n\nYou will receive a confirmation of your registration by email.  The e
 mail will provide you with the first date on the class\, as well as the ti
 me and location. The dates for sessions 2\, 3 and 4 will not be provided.
   Please make note of those dates or reference the main TIPS page\n\n***P
 lease Note: This TIPS class will be facilitated on the online platform cal
 led Zoom. Internet access and access to a computer/laptop/tablet/smartphon
 e is required to attend.\nThe link to attend this class will be provided a
 t registration.\nPlease follow the link below for a brief tutorial on how 
 to sign up for a free Zoom account.\nZoom User Guide
ATTACH;FMTTYPE=image/jpeg:https://fakce.org/wp-content/uploads/2016/08/kid
 s-·-kids-·-kids.jpg
CATEGORIES:Classes,Online Classes,TIPS Classes,TIPS Sessions
LOCATION:Zoom\, 0000 Zoom \, San Diego\, United States
X-APPLE-STRUCTURED-LOCATION;VALUE=URI;X-ADDRESS=0000 Zoom \, San Diego\, Un
 ited States;X-APPLE-RADIUS=100;X-TITLE=Zoom:geo:0,0
END:VEVENT
BEGIN:VTIMEZONE
TZID:America/Los_Angeles
X-LIC-LOCATION:America/Los_Angeles
BEGIN:DAYLIGHT
DTSTART:20220313T030000
TZOFFSETFROM:-0800
TZOFFSETTO:-0700
TZNAME:PDT
END:DAYLIGHT
BEGIN:STANDARD
DTSTART:20221106T010000
TZOFFSETFROM:-0700
TZOFFSETTO:-0800
TZNAME:PST
END:STANDARD
END:VTIMEZONE
END:VCALENDAR