BEGIN:VCALENDAR
VERSION:2.0
PRODID:-//wp-events-plugin.com//7.2.3.1//EN
TZID:America/Los_Angeles
X-WR-TIMEZONE:America/Los_Angeles
BEGIN:VEVENT
UID:18403@fakce.org
DTSTART;TZID=America/Los_Angeles:20260422T180000
DTEND;TZID=America/Los_Angeles:20260422T200000
DTSTAMP:20260420T114707Z
URL:https://fakce.org/events/canceled-supportive-strategies-for-resource-h
 omes-new-name-previously-nest-support-group-resource-parents-as-mandated-r
 eporters-2026-04-22/
SUMMARY:Canceled | Supportive Strategies for Resource Homes (New Name-Previ
 ously NEST) Support Group: Resource Parents as Mandated Reporters
DESCRIPTION:**This meeting has been canceled**\nMeets 4th Wednesday of the 
 Month\n**no meeting in November &amp\; December**\nSupport Group Leader: 
 MaryJo Meer\n\nTopic: The Federal Child Abuse Prevention and Treatment Act
  (CAPTA) requires each State to have provisions or procedures for requirin
 g certain individuals to report known or suspected instances of child abus
 e and neglect. This workshop will discuss the laws that designate the grou
 ps of professionals that are required to report cases of suspected child a
 buse and neglect and reporting by other persons\, the responsibilities of 
 institutions in making reports\, standards for making a report\, and the c
 onfidentiality of the reporter's identity.\n***Please Note: This class wil
 l be facilitated on the Zoom platform.\n Internet access and access to a c
 omputer/laptop/tablet/smartphone is required to attend.\nFor our support g
 roup meetings\, all participants must have their cameras on\, regardless 
 of whether they are seeking credit or not. This requirement is designed to
  encourage full engagement and connection among participants\, fostering a
  more supportive atmosphere within our community. Please note that individ
 uals unable to participate with their cameras on will not be able to join 
 the support group sessions.\nWe kindly request that participants avoid usi
 ng distracting virtual backgrounds. For privacy\, we recommend using the b
 lur feature instead.\nYou cannot take this class in a vehicle.\nThe link t
 o attend this class will be provided via email.\nPlease follow the link be
 low for a brief tutorial on how to sign up for a free Zoom account.\nZoom 
 User Guide\n&nbsp\;
ATTACH;FMTTYPE=image/jpeg:https://fakce.org/wp-content/uploads/2016/12/404
 6282.jpg
CATEGORIES:Classes,Online Classes,Support Groups,Workshops
LOCATION:Zoom\, 0000 Zoom \, San Diego\, United States
X-APPLE-STRUCTURED-LOCATION;VALUE=URI;X-ADDRESS=0000 Zoom \, San Diego\, Un
 ited States;X-APPLE-RADIUS=100;X-TITLE=Zoom:geo:0,0
END:VEVENT
BEGIN:VTIMEZONE
TZID:America/Los_Angeles
X-LIC-LOCATION:America/Los_Angeles
BEGIN:DAYLIGHT
DTSTART:20260308T030000
TZOFFSETFROM:-0800
TZOFFSETTO:-0700
TZNAME:PDT
END:DAYLIGHT
END:VTIMEZONE
END:VCALENDAR