BEGIN:VCALENDAR
VERSION:2.0
PRODID:-//wp-events-plugin.com//7.2.3.1//EN
TZID:America/Los_Angeles
X-WR-TIMEZONE:America/Los_Angeles
BEGIN:VEVENT
UID:17376@fakce.org
DTSTART;TZID=America/Los_Angeles:20250118T090000
DTEND;TZID=America/Los_Angeles:20250118T120000
DTSTAMP:20250113T202142Z
URL:https://fakce.org/events/canceled-healing-yoga-2025-01-18/
SUMMARY:Canceled | Healing Yoga
DESCRIPTION:***This class has been canceled***\nInstructors: Nicole Espinos
 a\, LCSW &amp\; Christine Dennis\, LCSW\nThere are countless benefits to y
 oga. It helps both your physical and mental health. Children and adults wh
 o have experienced trauma have experienced the healing benefits of yoga pr
 actice. In this class\, you will learn how doing yoga with your child can 
 enhance your attachment. We will explore how yoga can help children and ad
 ults manage big feelings and live a more balanced life. Not only will you 
 learn about yoga in this class but you will get to practice it so make su
 re to dress comfortably and get ready to have some fun in this class.\nPle
 ase note\, no childcare is provided or available onsite. Do not bring babi
 es or children to class. Thank you!
ATTACH;FMTTYPE=image/jpeg:https://fakce.org/wp-content/uploads/2023/04/ist
 ockphoto-478921850-170667a.jpg
CATEGORIES:Classes,Specialty Classes
LOCATION:Straight From The Heart\, 851 W. San Marcos Blvd.\, San Marcos\, C
 A\, 92078\, United States
GEO:33.135956;-117.183296
X-APPLE-STRUCTURED-LOCATION;VALUE=URI;X-ADDRESS=851 W. San Marcos Blvd.\, S
 an Marcos\, CA\, 92078\, United States;X-APPLE-RADIUS=100;X-TITLE=Straight
  From The Heart:geo:33.135956,-117.183296
END:VEVENT
BEGIN:VTIMEZONE
TZID:America/Los_Angeles
X-LIC-LOCATION:America/Los_Angeles
BEGIN:STANDARD
DTSTART:20241103T010000
TZOFFSETFROM:-0700
TZOFFSETTO:-0800
TZNAME:PST
END:STANDARD
END:VTIMEZONE
END:VCALENDAR