BEGIN:VCALENDAR
VERSION:2.0
PRODID:-//wp-events-plugin.com//7.2.3.1//EN
TZID:America/Los_Angeles
X-WR-TIMEZONE:America/Los_Angeles
BEGIN:VEVENT
UID:14186@fakce.org
DTSTART;TZID=America/Los_Angeles:20220326T090000
DTEND;TZID=America/Los_Angeles:20220326T120000
DTSTAMP:20220325T141256Z
URL:https://fakce.org/events/canceled-healing-yoga-2022-03-26/
SUMMARY:Canceled |  Healing Yoga
DESCRIPTION:***This class has been canceled***\nThere are countless beneﬁ
 ts to yoga. It not only helps your physical but also your mental health. 
 Children and adults who have experienced trauma have experienced the heali
 ng beneﬁts of yoga practice. In this class you will learn how doing yoga
  with your child can enhance your attachment. We will explore how yoga can
  help children and adults manage big feelings and live a more balanced lif
 e. Not only will you learn about yoga in this class but you will get to pr
 actice it so make sure to dress comfortable and get ready to have some fun
  in this class.\n***Please Note: This class will be facilitated on the onl
 ine platform called Zoom. Internet access and access to a computer/laptop/
 tablet/smartphone is required to attend.\nThe link to attend this class wi
 ll be provided at registration.\nPlease follow the link below for a brief 
 tutorial on how to sign up for a free Zoom account.\nZoom User Guide
ATTACH;FMTTYPE=image/jpeg:https://fakce.org/wp-content/uploads/2016/08/o-C
 LASSROOM-facebook.jpg
CATEGORIES:Classes,Online Classes,Specialty Classes
LOCATION:Zoom\, 0000 Zoom \, San Diego\, United States
X-APPLE-STRUCTURED-LOCATION;VALUE=URI;X-ADDRESS=0000 Zoom \, San Diego\, Un
 ited States;X-APPLE-RADIUS=100;X-TITLE=Zoom:geo:0,0
END:VEVENT
BEGIN:VTIMEZONE
TZID:America/Los_Angeles
X-LIC-LOCATION:America/Los_Angeles
BEGIN:DAYLIGHT
DTSTART:20220313T030000
TZOFFSETFROM:-0800
TZOFFSETTO:-0700
TZNAME:PDT
END:DAYLIGHT
END:VTIMEZONE
END:VCALENDAR