BEGIN:VCALENDAR
VERSION:2.0
PRODID:-//wp-events-plugin.com//7.2.3.1//EN
TZID:America/Los_Angeles
X-WR-TIMEZONE:America/Los_Angeles
BEGIN:VEVENT
UID:14111@fakce.org
DTSTART;TZID=America/Los_Angeles:20220226T090000
DTEND;TZID=America/Los_Angeles:20220226T153000
DTSTAMP:20220225T164126Z
URL:https://fakce.org/events/canceled-core-teen-2022-02-26/
SUMMARY:Canceled | Core Teen
DESCRIPTION:Navigating through the challenges of adolescence is not easy fo
 r any parent\, especially those who support youth who have suﬀered abus
 e and/or neglect and have experienced signiﬁcant loss and trauma. Adoles
 cents who have experienced trauma are more likely to join in high‐risk b
 ehaviors\, have problems with their peers\, and struggle academically. Fin
 ding foster and adoptive families who feel prepared to care for these yout
 h can be diﬃcult. Often\, parents feel they do not know what to do or ma
 y not have conﬁdence in their abilities to manage the emotional and beha
 vioral needs of the teen.\n\nThe goal of the CORE Teen curriculum is to pr
 epare and support new and seasoned resource parents willing to care for ol
 der children. By providing multiple opportunities to increase resource par
 ent’s knowledge and skills\, and by maximizing the application of new kn
 owledge and skills\, families will be more prepared to care for older yout
 h in their homes\; maintain these placements and increase permanent resour
 ces for youth.\n\n&nbsp\;\nRegistration will close on Friday\, February 25
 \, 2022 at 12pm\n***Please Note: This class will be facilitated on the onl
 ine platform called Zoom. Internet access and access to a computer/laptop/
 tablet/smartphone is required to attend.\nThe link to attend this class wi
 ll be provided at registration.\nPlease follow the link below for a brief 
 tutorial on how to sign up for a free Zoom account.\nZoom User Guide
ATTACH;FMTTYPE=image/jpeg:https://fakce.org/wp-content/uploads/2016/07/Pic
 ture1.jpg
CATEGORIES:Classes,Online Classes,Specialty Classes
LOCATION:Zoom\, 0000 Zoom \, San Diego\, United States
X-APPLE-STRUCTURED-LOCATION;VALUE=URI;X-ADDRESS=0000 Zoom \, San Diego\, Un
 ited States;X-APPLE-RADIUS=100;X-TITLE=Zoom:geo:0,0
END:VEVENT
BEGIN:VTIMEZONE
TZID:America/Los_Angeles
X-LIC-LOCATION:America/Los_Angeles
BEGIN:STANDARD
DTSTART:20211107T010000
TZOFFSETFROM:-0700
TZOFFSETTO:-0800
TZNAME:PST
END:STANDARD
END:VTIMEZONE
END:VCALENDAR