BEGIN:VCALENDAR
VERSION:2.0
PRODID:-//wp-events-plugin.com//7.2.3.1//EN
TZID:America/Los_Angeles
X-WR-TIMEZONE:America/Los_Angeles
BEGIN:VEVENT
UID:17690@fakce.org
DTSTART;TZID=America/Los_Angeles:20250421T180000
DTEND;TZID=America/Los_Angeles:20250430T210000
DTSTAMP:20250423T185839Z
URL:https://fakce.org/events/cancelado-tips-class-844z-en-espanol-2025-04-
 21/
SUMMARY:Cancelado | TIPS: Class 844Z (En Español)
DESCRIPTION:***Esta serie se ha cancelado***\nTips es el programa de formac
 ión inicial de 12 horas que se requiere antes de ser aprobado como un pad
 re de recurso por el Condado de San Diego. El entrenamiento de TIPS consis
 te de 4 sesiones de entrenamiento de 3 horas cada una.\n\nSe está registr
 ando para Clase 844z. Las fechas para cada una de las sesiones son:\n\nSes
 ión #1| lunes\, abril 21\, 2025\nSesión #2| miércoles\, abril 23\, 2025
 \nSesión #3| lunes\, abril 28 \, 2025\nSesión #4| miércoles\, abril 30\
 , 2025\n\nRecibirá una confirmación de su registración por correo elect
 rónico (email). El email le proporcionará la primera fecha de la clase\,
  así como la hora y el lugar. Las fechas para las sesiones 2\, 3 y 4\, no
  se proporcionarán. Favor de tomar nota de las fechas ahora. En caso de q
 ue necesite ver las fechas de las sesiones en el futuro\, se pueden encont
 rar entrando a la página de FAKCE en el internet\, seleccionando y bajand
 o a la página de horarios de la clase de TIPS. Si necesita ayuda\, favor 
 de llamar a nuestra oficina al 1-800-200-1222.\n***Por Favor Tome Nota: Es
 ta clase se facilitará en la plataforma en línea llamada Zoom. \nSe requ
 iere acceso a Internet y acceso a una computadora / computadora portátil 
 / tableta / teléfono inteligente para asistir.\nNo se puede tomar esta cl
 ase en un vehículo.\nEl enlace para assistir a esta clase se proveera des
 pues de que se registre.\nSiga el enlace a continuación para obtener un b
 reve tutorial sobre cómo registrarse para obtener una cuenta de\nGuia de 
 Zoom para Usuarios\n
ATTACH;FMTTYPE=image/jpeg:https://fakce.org/wp-content/uploads/2015/04/thL
 BAFS5YQ.jpg
CATEGORIES:Online Classes,TIPS Classes,TIPS Sessions
LOCATION:Zoom\, 0000 Zoom \, San Diego\, United States
X-APPLE-STRUCTURED-LOCATION;VALUE=URI;X-ADDRESS=0000 Zoom \, San Diego\, Un
 ited States;X-APPLE-RADIUS=100;X-TITLE=Zoom:geo:0,0
END:VEVENT
BEGIN:VTIMEZONE
TZID:America/Los_Angeles
X-LIC-LOCATION:America/Los_Angeles
BEGIN:DAYLIGHT
DTSTART:20250309T030000
TZOFFSETFROM:-0800
TZOFFSETTO:-0700
TZNAME:PDT
END:DAYLIGHT
END:VTIMEZONE
END:VCALENDAR