BEGIN:VCALENDAR
VERSION:2.0
PRODID:-//wp-events-plugin.com//7.2.3.1//EN
TZID:America/Los_Angeles
X-WR-TIMEZONE:America/Los_Angeles
BEGIN:VEVENT
UID:15957@fakce.org
DTSTART;TZID=America/Los_Angeles:20231121T180000
DTEND;TZID=America/Los_Angeles:20231205T210000
DTSTAMP:20231117T211830Z
URL:https://fakce.org/events/cancelado-tips-class-688z-en-espanol-2023-11-
 21/
SUMMARY:Cancelado | TIPS: Class 688Z (En Español)
DESCRIPTION:***Esta clase se ha cancelado***\nTips es el programa de formac
 ión inicial de 12 horas que se requiere antes de ser aprobado como un pad
 re de recurso por el Condado de San Diego. El entrenamiento de TIPS consis
 te de 4 sesiones de entrenamiento de 3 horas cada una.\n\nSe está registr
 ando para Clase 688z. Las fechas para cada una de las sesiones son:\n\nSes
 ión #1| martes\, noviembre 21\, 2023\nSesión #2| martes\, noviembre 28\,
  2023\nSesión #3| jueves\, noviembre 30\, 2023\nSesión #4| martes\, dici
 embre 05\, 2023\n\nRecibirá una confirmación de su registración por cor
 reo electrónico (email). El email le proporcionará la primera fecha de l
 a clase\, así como la hora y el lugar. Las fechas para las sesiones 2\, 3
  y 4\, no se proporcionarán. Favor de tomar nota de las fechas ahora. En 
 caso de que necesite ver las fechas de las sesiones en el futuro\, se pued
 en encontrar entrando a la página de FAKCE en el internet\, seleccionando
  y bajando a la página de horarios de la clase de TIPS. Si necesita ayuda
 \, favor de llamar a nuestra oficina al 1-800-200-1222.\n***Por Favor Tome
  Nota:Esta clase se facilitará en la plataforma en línea llamada Zoom. S
 e requiere acceso a Internet y acceso a una computadora / computadora port
 átil / tableta / teléfono inteligente para asistir.\nEl enlace para assi
 stir a esta clase se proveera despues de que se registre.\nSiga el enlace 
 a continuación para obtener un breve tutorial sobre cómo registrarse par
 a obtener una cuenta de\nGuia de Zoom para Usuarios\n
ATTACH;FMTTYPE=image/jpeg:https://fakce.org/wp-content/uploads/2015/04/thL
 BAFS5YQ.jpg
CATEGORIES:Online Classes,TIPS Classes,TIPS Sessions
LOCATION:Zoom\, 0000 Zoom \, San Diego\, United States
X-APPLE-STRUCTURED-LOCATION;VALUE=URI;X-ADDRESS=0000 Zoom \, San Diego\, Un
 ited States;X-APPLE-RADIUS=100;X-TITLE=Zoom:geo:0,0
END:VEVENT
BEGIN:VTIMEZONE
TZID:America/Los_Angeles
X-LIC-LOCATION:America/Los_Angeles
BEGIN:STANDARD
DTSTART:20231105T010000
TZOFFSETFROM:-0700
TZOFFSETTO:-0800
TZNAME:PST
END:STANDARD
END:VTIMEZONE
END:VCALENDAR