BEGIN:VCALENDAR
VERSION:2.0
PRODID:-//wp-events-plugin.com//7.2.3.1//EN
TZID:America/Los_Angeles
X-WR-TIMEZONE:America/Los_Angeles
BEGIN:VEVENT
UID:15565@fakce.org
DTSTART;TZID=America/Los_Angeles:20230518T180000
DTEND;TZID=America/Los_Angeles:20230530T210000
DTSTAMP:20230517T210032Z
URL:https://fakce.org/events/cancelado-tips-class-634z-en-espanol-2023-05-
 18/
SUMMARY:Cancelado | TIPS: Class 634Z (En Español)
DESCRIPTION:***esta serie se ha cancelado***\n\nTips es el programa de form
 ación inicial de 12 horas que se requiere antes de ser aprobado como un p
 adre de recurso por el Condado de San Diego. El entrenamiento de TIPS cons
 iste de 4 sesiones de entrenamiento de 3 horas cada una.\n\nSe está regis
 trando para Clase 634z. Las fechas para cada una de las sesiones son:\n\nS
 esión #1| jueves\, mayo 18\, 2023\nSesión #2| martes\, mayo 23\, 2023\nS
 esión #3| jueves\, mayo 25\, 2023\nSesión #4| martes\, mayo 30\, 2023\n\
 nRecibirá una confirmación de su registración por correo electrónico (
 email). El email le proporcionará la primera fecha de la clase\, así com
 o la hora y el lugar. Las fechas para las sesiones 2\, 3 y 4\, no se propo
 rcionarán. Favor de tomar nota de las fechas ahora. En caso de que necesi
 te ver las fechas de las sesiones en el futuro\, se pueden encontrar entra
 ndo a la página de FAKCE en el internet\, seleccionando y bajando a la p
 ágina de horarios de la clase de TIPS. Si necesita ayuda\, favor de llama
 r a nuestra oficina al 1-800-200-1222.\n\n***Por Favor Tome Nota:Esta clas
 e se facilitará en la plataforma en línea llamada Zoom. Se requiere acce
 so a Internet y acceso a una computadora / computadora portátil / tableta
  / teléfono inteligente para asistir.\nEl enlace para assistir a esta cla
 se se proveera despues de que se registre.\nSiga el enlace a continuación
  para obtener un breve tutorial sobre cómo registrarse para obtener una c
 uenta de\nGuia de Zoom para Usuarios\n
ATTACH;FMTTYPE=image/jpeg:https://fakce.org/wp-content/uploads/2015/04/thL
 BAFS5YQ.jpg
CATEGORIES:Online Classes,TIPS Classes,TIPS Sessions
LOCATION:Zoom\, 0000 Zoom \, San Diego\, United States
X-APPLE-STRUCTURED-LOCATION;VALUE=URI;X-ADDRESS=0000 Zoom \, San Diego\, Un
 ited States;X-APPLE-RADIUS=100;X-TITLE=Zoom:geo:0,0
END:VEVENT
BEGIN:VTIMEZONE
TZID:America/Los_Angeles
X-LIC-LOCATION:America/Los_Angeles
BEGIN:DAYLIGHT
DTSTART:20230312T030000
TZOFFSETFROM:-0800
TZOFFSETTO:-0700
TZNAME:PDT
END:DAYLIGHT
END:VTIMEZONE
END:VCALENDAR