BEGIN:VCALENDAR
VERSION:2.0
PRODID:-//wp-events-plugin.com//7.2.3.1//EN
TZID:America/Los_Angeles
X-WR-TIMEZONE:America/Los_Angeles
BEGIN:VEVENT
UID:17943@fakce.org
DTSTART;TZID=America/Los_Angeles:20251004T090000
DTEND;TZID=America/Los_Angeles:20251004T130000
DTSTAMP:20251002T202820Z
URL:https://fakce.org/events/cancelado-sopa-de-lagrimas-2025-10-04/
SUMMARY:Cancelado | Sopa de Lagrimas
DESCRIPTION:***Esta clase se ha cancelado***\n&nbsp\;\n\nInstructora: Gisel
 la Gomez\, MSW\n\nDescripción: Los niños en hogares de crianza y adopci
 ón sufren muchas pérdidas. Es esencial que los niños tengan la oportuni
 dad de llorar sus pérdidas para que puedan comenzar su etapa de curación
 . Diferentes etapas de desarrollo y eventos de la vida pueden desencadenar
  estas pérdidas nuevamente. En esta clase\, aprenderá cómo el dolor afe
 cta no solo a su hijo\, sino también a usted como familia adoptiva / de c
 rianza temporal\, obtendrá algunas herramientas para ayudar a su hijo y a
  su familia a superar estas pérdidas\, verá un video llamado "Sopa de L
 ágrimas" y da persona experimenta el dolor de diferente manera.\n***Por F
 avor Tome Nota: Esta clase se llevará a cabo en la plataforma Zoom. Se re
 quiere acceso a internet y a una computadora\, laptop\, tableta o teléfon
 o inteligente para participar.\nPedimos amablemente a los participantes qu
 e eviten el uso de fondos virtuales que puedan distraer. Para mayor privac
 idad\, recomendamos utilizar la función de desenfoque.\nNo se permite tom
 ar esta clase desde un vehículo.\nEl enlace de Zoom para asistir a esta c
 lase será enviado por correo electrónico.\nPor favor\, siga el enlace a 
 continuación para ver un breve tutorial sobre cómo registrarse para obte
 ner una cuenta gratuita de Zoom.\nGuia de Zoom para Usuarios
ATTACH;FMTTYPE=image/jpeg:https://fakce.org/wp-content/uploads/2019/01/rew
 arding-good-behavior.jpg
CATEGORIES:Classes,Online Classes,Specialty Classes
LOCATION:Zoom\, 0000 Zoom \, San Diego\, United States
X-APPLE-STRUCTURED-LOCATION;VALUE=URI;X-ADDRESS=0000 Zoom \, San Diego\, Un
 ited States;X-APPLE-RADIUS=100;X-TITLE=Zoom:geo:0,0
END:VEVENT
BEGIN:VTIMEZONE
TZID:America/Los_Angeles
X-LIC-LOCATION:America/Los_Angeles
BEGIN:DAYLIGHT
DTSTART:20250309T030000
TZOFFSETFROM:-0800
TZOFFSETTO:-0700
TZNAME:PDT
END:DAYLIGHT
END:VTIMEZONE
END:VCALENDAR