BEGIN:VCALENDAR
VERSION:2.0
PRODID:-//wp-events-plugin.com//7.2.3.1//EN
TZID:America/Los_Angeles
X-WR-TIMEZONE:America/Los_Angeles
BEGIN:VEVENT
UID:18067@fakce.org
DTSTART;TZID=America/Los_Angeles:20251204T100000
DTEND;TZID=America/Los_Angeles:20251204T120000
DTSTAMP:20251202T190210Z
URL:https://fakce.org/events/cancelado-qpi-el-enfoque-del-cuidador-en-el-d
 esarrollo-del-adolescente-como-apoyar-la-normalidad-en-los-adolescentes-ba
 jo-cuidado-de-crianza-2025-12-04/
SUMMARY:Cancelado |QPI El Enfoque del Cuidador en el Desarrollo del Adolesc
 ente: Cómo Apoyar la Normalidad en los Adolescentes bajo Cuidado de Crian
 za
DESCRIPTION:\n\n\n\n\n\n\nEsta clase se impartirá en inglés\; sin embargo
 \, se contará con un intérprete que traducirá la sesión en vivo al esp
 añol para quienes lo necesiten.\n\n\n\n\n\n\n&nbsp\;\nLa Dra. Kanani Titc
 hen es especialista en medicina del adolescente y Profesora Asociada en UC
 SD. Se especializa en la atención de preadolescentes\, adolescentes y adu
 ltos jóvenes en la Unidad Médica de Conducta (MBU) del Hospital Infantil
  Rady\, donde atiende a pacientes con trastornos alimenticios. También of
 rece consultas externas en la Clínica de Medicina del Adolescente y Adult
 o Joven (AYA) de UCSD/RADY. Además\, se desempeña como Directora de la R
 otación y Subinternado de Estudiantes de Medicina en Medicina del Adolesc
 ente y Adulto Joven para el Departamento de Pediatría de la Escuela de Me
 dicina de la Universidad de California en San Diego. También es madre ado
 ptiva.\n\nDescripción: Dirigido por expertos locales\, este entrenamiento
  ofrecerá un breve repaso de la neurobiología que influye en los comport
 amientos durante la adolescencia\, el impacto del trauma infantil en el ce
 rebro y la conducta\, así como una variedad de estrategias para trabajar 
 con niños y jóvenes en las etapas temprana\, media y tardía de la adole
 scencia. Se abordarán temas como la higiene\, la regulación del sueño y
  las comidas\, el uso de la tecnología\, las conductas autolesivas y las 
 relaciones saludables.\n***Por Favor Tome Nota: Esta clase se llevará a c
 abo en la plataforma Zoom. Se requiere acceso a internet y a una computado
 ra\, laptop\, tableta o teléfono inteligente para participar.\nPedimos am
 ablemente a los participantes que eviten el uso de fondos virtuales que pu
 edan distraer. Para mayor privacidad\, recomendamos utilizar la función d
 e desenfoque.\nNo se permite tomar esta clase desde un vehículo.\nEl enla
 ce de Zoom para asistir a esta clase será enviado por correo electrónico
 .\nPor favor\, siga el enlace a continuación para ver un breve tutorial s
 obre cómo registrarse para obtener una cuenta gratuita de Zoom.\nGuia de 
 Zoom para Usuarios
ATTACH;FMTTYPE=image/jpeg:https://fakce.org/wp-content/uploads/2024/06/tal
 king-adoption-kids-teens-the-talk.jpg
CATEGORIES:Classes,Online Classes,Specialty Classes
LOCATION:Zoom\, 0000 Zoom \, San Diego\, United States
X-APPLE-STRUCTURED-LOCATION;VALUE=URI;X-ADDRESS=0000 Zoom \, San Diego\, Un
 ited States;X-APPLE-RADIUS=100;X-TITLE=Zoom:geo:0,0
END:VEVENT
BEGIN:VTIMEZONE
TZID:America/Los_Angeles
X-LIC-LOCATION:America/Los_Angeles
BEGIN:STANDARD
DTSTART:20251102T010000
TZOFFSETFROM:-0700
TZOFFSETTO:-0800
TZNAME:PST
END:STANDARD
END:VTIMEZONE
END:VCALENDAR