BEGIN:VCALENDAR
VERSION:2.0
PRODID:-//wp-events-plugin.com//7.2.3.1//EN
TZID:America/Los_Angeles
X-WR-TIMEZONE:America/Los_Angeles
BEGIN:VEVENT
UID:18690@fakce.org
DTSTART;TZID=America/Los_Angeles:20260421T180000
DTEND;TZID=America/Los_Angeles:20260421T200000
DTSTAMP:20260419T191043Z
URL:https://fakce.org/events/cancelado-la-prevencion-del-suicidio-2026-04-
 21/
SUMMARY:Cancelado | La Prevención del Suicidio
DESCRIPTION:***Esta clase se ha cancelado***\nInstructores: Representates d
 e Scripps Mercy Hospital’s Well Being\n\nDescripción: Es imperativo que
  los cuidadores estén informados sobre la prevención del suicidio y las 
 señales de advertencia de suicidio\, especialmente porque las investigaci
 ones indican que los jóvenes en hogares de crianza tienen un mayor riesgo
 . Los jóvenes en hogares de crianza tienen 3 veces más probabilidades de
  considerar signiﬁcativamente el suicidio\, 4 veces más probabilidades 
 de haber hecho un intento de suicidio en los últimos 12 meses y 5 veces m
 ás probabilidades de ser hospitalizados después de un intento de suicidi
 o en comparación con los jóvenes que no están en hogares de crianza. ¡
 Únase a nosotros en un tema muy importante que no debe perderse!\n \n***
 Por Favor Tome Nota: Esta clase se facilitará en la plataforma en línea
  llamada Zoom. Se requiere acceso a Internet y acceso a una computadora / 
 computadora portátil / tableta / teléfono inteligente para asistir.\nEl 
 enlace para assistir a esta clase se proveera despues de que se registre.\
 nSiga el enlace a continuación para obtener un breve tutorial sobre cómo
  registrarse para obtener una cuenta de\nGuia de Zoom para Usuarios
ATTACH;FMTTYPE=image/jpeg:https://fakce.org/wp-content/uploads/2016/08/Cha
 iKids.jpg
CATEGORIES:Classes,Online Classes,Specialty Classes
LOCATION:Zoom\, 0000 Zoom \, San Diego\, United States
X-APPLE-STRUCTURED-LOCATION;VALUE=URI;X-ADDRESS=0000 Zoom \, San Diego\, Un
 ited States;X-APPLE-RADIUS=100;X-TITLE=Zoom:geo:0,0
END:VEVENT
BEGIN:VTIMEZONE
TZID:America/Los_Angeles
X-LIC-LOCATION:America/Los_Angeles
BEGIN:DAYLIGHT
DTSTART:20260308T030000
TZOFFSETFROM:-0800
TZOFFSETTO:-0700
TZNAME:PDT
END:DAYLIGHT
END:VTIMEZONE
END:VCALENDAR