BEGIN:VCALENDAR
VERSION:2.0
PRODID:-//wp-events-plugin.com//7.2.3.1//EN
TZID:America/Los_Angeles
X-WR-TIMEZONE:America/Los_Angeles
BEGIN:VEVENT
UID:18012@fakce.org
DTSTART;TZID=America/Los_Angeles:20251001T093000
DTEND;TZID=America/Los_Angeles:20251001T123000
DTSTAMP:20250929T223018Z
URL:https://fakce.org/events/cancelado-en-linea-trauma-sexual-infantil-her
 ramientas-para-la-esperanza-y-la-sanacion-parte-1-2025-10-01/
SUMMARY:Cancelado En línea | Trauma Sexual Infantil:  Herramientas para la
  Esperanza y la Sanación Parte 1
DESCRIPTION:** Debido a la falta de inscripciones\, hemos cancelado la inte
 rpretación al español para este evento.**\nInstructora: Allison Davis Ma
 xon\, LMFT\nAcera de: Es una experta reconocida a nivel nacional en trauma
  complejo del desarrollo y salud mental infantil\, especializada en apego 
 y permanencia/adopción. Es madre\, terapeuta especializada en trauma\, y 
 autora/conferencista.\nAcompaña a Allison en un recorrido por las demanda
 s emocionales y los desafíos que enfrentan los padres al establecer vínc
 ulos y criar a niños y adolescentes con pérdidas fundamentales y trauma 
 del desarrollo.\nLa serie utilizará el libro de trabajo The Seven Core Is
 sues Workbook for Parents of Traumatized Children and Teens: A Guide to He
 lp You Explore Feelings and Overcome Emotional Challenges in Your Family.\
 n\n&nbsp\;\nLos niños que han sufrido abuso sexual o explotación cargan 
 con heridas relacionales profundas que pueden afectar su sentido de seguri
 dad\, confianza e identidad. Esta poderosa capacitación de dos partes ayu
 dará a cuidadores y profesionales a comprender los efectos psicológicos\
 , emocionales y neurobiológicos de estos traumas—y cómo apoyar el proc
 eso de sanación.\nAprende cómo el trauma impacta el desarrollo del cereb
 ro y el cuerpo\, cómo reconocer señales de angustia y sexualización pre
 matura\, y cómo responder con herramientas apropiadas para el desarrollo\
 , basadas en fortalezas\, que promuevan la seguridad\, la conexión y el c
 recimiento."\nHerramientas que te llevarás contigo:\n\n\n 	Reconocer señ
 ales conductuales y emocionales de abuso y explotación sexual\n 	Comprend
 e cómo estas experiencias afectan la autoestima\, las relaciones y el des
 arrollo de un niño\n 	Explora las respuestas al trauma como lucha/huida/p
 arálisis\, y cómo apoyar la sanación utilizando estrategias basadas en 
 el funcionamiento del cerebro\n 	Aprende enfoques prácticos para fomentar
  la seguridad sentida\, la co-regulación y la sanación narrativa\n 	Adqu
 iere herramientas para apoyar a niños con conductas sexuales reactivas o 
 autolesivas\n\nEsta capacitación en dos partes ofrece un enfoque compasiv
 o y clínico para ayudarte a convertirte en un adulto seguro y centrado en
  el proceso de sanación de un niño.\nNota: Aunque puedes inscribirte en 
 cada sesión por separado\, si te registras en la Parte 1\, quedarás auto
 máticamente inscrito en ambas partes. Esta opción se recomienda para qui
 enes planean asistir a toda la serie."\nPróxima sesión:\n\n\n 	Miércole
 s\, Octuber 15\, 2025 - Click Here to Register\n\n***Nota Importante: Esta
  clase se llevará a cabo a través de la plataforma Zoom.\nSe requiere ac
 ceso a internet y a una computadora\, laptop\, tableta o teléfono intelig
 ente para poder participar.\nSolicitamos amablemente que los participantes
  eviten el uso de fondos virtuales que distraigan. Por motivos de privacid
 ad\, recomendamos utilizar la función de desenfoque.\nNo se permite tomar
  esta clase desde un vehículo.\nEl enlace de Zoom para asistir a la clase
  será enviado por correo electrónico.\nPor favor\, sigue el enlace a con
 tinuación para ver un breve tutorial sobre cómo crear una cuenta gratuit
 a en Zoom.\nZoom User Guide
ATTACH;FMTTYPE=image/jpeg:https://fakce.org/wp-content/uploads/2024/11/ima
 ge-dec-2022.jpeg
CATEGORIES:Classes,Online Classes,Specialty Classes
LOCATION:Zoom\, 0000 Zoom \, San Diego\, United States
X-APPLE-STRUCTURED-LOCATION;VALUE=URI;X-ADDRESS=0000 Zoom \, San Diego\, Un
 ited States;X-APPLE-RADIUS=100;X-TITLE=Zoom:geo:0,0
END:VEVENT
BEGIN:VTIMEZONE
TZID:America/Los_Angeles
X-LIC-LOCATION:America/Los_Angeles
BEGIN:DAYLIGHT
DTSTART:20250309T030000
TZOFFSETFROM:-0800
TZOFFSETTO:-0700
TZNAME:PDT
END:DAYLIGHT
END:VTIMEZONE
END:VCALENDAR