BEGIN:VCALENDAR
VERSION:2.0
PRODID:-//wp-events-plugin.com//7.2.3.1//EN
TZID:America/Los_Angeles
X-WR-TIMEZONE:America/Los_Angeles
BEGIN:VEVENT
UID:17941@fakce.org
DTSTART;TZID=America/Los_Angeles:20251003T100000
DTEND;TZID=America/Los_Angeles:20251003T120000
DTSTAMP:20250930T191901Z
URL:https://fakce.org/events/cancelado-en-linea-conociendo-lo-que-hay-detr
 as-del-comportamiento-2025-10-03/
SUMMARY:Cancelado En Línea | Conociendo lo que hay Detrás del Comportamie
 nto
DESCRIPTION:***Debido a la falta de inscripciones\, hemos cancelado la inte
 rpretación al español para este evento***\n\nInstructora:Dr. Itahi Artea
 ga\, Cultivando Raices\nDescripción: Este taller ayudará a los cuidadore
 s a entender cómo las experiencias tempranas inﬂuyen directamente en el
  desarrollo cerebral\, el procesamiento sensorial y las respuestas emocion
 ales de los niños. A través de una perspectiva informada por la neurocie
 ncia\, los participantes aprenderán a identiﬁcar comportamientos deriva
 dos de la adversidad y obtendrán herramientas prácticas para apoyar con 
 mayor comprensión\, conexión y conﬁanza.\n***Por Favor Tome Nota: Esta
  clase se llevará a cabo en la plataforma Zoom. Se requiere acceso a inte
 rnet y a una computadora\, laptop\, tableta o teléfono inteligente para p
 articipar.\nPedimos amablemente a los participantes que eviten el uso de f
 ondos virtuales que puedan distraer. Para mayor privacidad\, recomendamos 
 utilizar la función de desenfoque.\nNo se permite tomar esta clase desde 
 un vehículo.\nEl enlace de Zoom para asistir a esta clase será enviado p
 or correo electrónico.\nPor favor\, siga el enlace a continuación para v
 er un breve tutorial sobre cómo registrarse para obtener una cuenta gratu
 ita de Zoom.\nGuia de Zoom para Usuarios
ATTACH;FMTTYPE=image/jpeg:https://fakce.org/wp-content/uploads/2021/05/Fly
 ing-Boy.jpg
CATEGORIES:Classes,Online Classes,Specialty Classes
LOCATION:Zoom\, 0000 Zoom \, San Diego\, United States
X-APPLE-STRUCTURED-LOCATION;VALUE=URI;X-ADDRESS=0000 Zoom \, San Diego\, Un
 ited States;X-APPLE-RADIUS=100;X-TITLE=Zoom:geo:0,0
END:VEVENT
BEGIN:VTIMEZONE
TZID:America/Los_Angeles
X-LIC-LOCATION:America/Los_Angeles
BEGIN:DAYLIGHT
DTSTART:20250309T030000
TZOFFSETFROM:-0800
TZOFFSETTO:-0700
TZNAME:PDT
END:DAYLIGHT
END:VTIMEZONE
END:VCALENDAR