BEGIN:VCALENDAR
VERSION:2.0
PRODID:-//wp-events-plugin.com//7.2.3.1//EN
TZID:America/Los_Angeles
X-WR-TIMEZONE:America/Los_Angeles
BEGIN:VEVENT
UID:17986@fakce.org
DTSTART;TZID=America/Los_Angeles:20250925T180000
DTEND;TZID=America/Los_Angeles:20250925T210000
DTSTAMP:20250923T153142Z
URL:https://fakce.org/events/cancelado-adoptando-despues-de-la-infertilida
 d-2025-09-25/
SUMMARY:Cancelado | Adoptando Despues De La Infertilidad
DESCRIPTION:***Esta clase se ha cancelado***\nEsta clase es para parejas qu
 e están experimentando infertilidad \nDiseñado para personas con problem
 as de infertilidad que planean adoptar. Se analizaran temas de dolor y pé
 rdida sobre la infertilidad y se examinará cómo eso afecta a los padres 
 por adopción.\nRegistro cerrara el Jueves 25 de Septiembre 2025 a las 7am
  \n&nbsp\;\n***Por Favor Tome Nota:Esta clase se facilitará en la plataf
 orma en línea llamada Zoom. Se requiere acceso a Internet y acceso a una 
 computadora / computadora portátil / tableta / teléfono inteligente para
  asistir.\nEl enlace para assistir a esta clase se proveera despues de que
  se registre.\nSiga el enlace a continuación para obtener un breve tutori
 al sobre cómo registrarse para obtener una cuenta de Zoom gratuita.\nGuí
 a de Zoom para Usuarios
ATTACH;FMTTYPE=image/jpeg:https://fakce.org/wp-content/uploads/2015/03/000
 019040418.jpg
CATEGORIES:Adoption Classes,Classes,Online Classes
LOCATION:Zoom\, 0000 Zoom \, San Diego\, United States
X-APPLE-STRUCTURED-LOCATION;VALUE=URI;X-ADDRESS=0000 Zoom \, San Diego\, Un
 ited States;X-APPLE-RADIUS=100;X-TITLE=Zoom:geo:0,0
END:VEVENT
BEGIN:VTIMEZONE
TZID:America/Los_Angeles
X-LIC-LOCATION:America/Los_Angeles
BEGIN:DAYLIGHT
DTSTART:20250309T030000
TZOFFSETFROM:-0800
TZOFFSETTO:-0700
TZNAME:PDT
END:DAYLIGHT
END:VTIMEZONE
END:VCALENDAR