BEGIN:VCALENDAR
VERSION:2.0
PRODID:-//wp-events-plugin.com//7.2.3.1//EN
TZID:America/Los_Angeles
X-WR-TIMEZONE:America/Los_Angeles
BEGIN:VEVENT
UID:17542@fakce.org
DTSTART;TZID=America/Los_Angeles:20250211T180000
DTEND;TZID=America/Los_Angeles:20250211T210000
DTSTAMP:20250208T002414Z
URL:https://fakce.org/events/cancelado-adoptando-despues-de-la-infertilida
 d-2025-02-11/
SUMMARY:Cancelado | Adoptando Después De La Infertilidad
DESCRIPTION:***Esta Clase se ha Cancelado***\nEsta clase es para parejas qu
 e están experimentando infertilidad \nDiseñado para personas con proble
 mas de infertilidad que planean adoptar. Se analizaran temas de dolor y p
 érdida sobre la infertilidad y se examinará cómo eso afecta a los padre
 s por adopción.\n\n&nbsp\;\n***Por Favor Tome Nota: Esta clase se llevar
 á a cabo en la plataforma Zoom.\nSe requiere acceso a Internet y a una co
 mputadora\, laptop\, tableta o teléfono inteligente para asistir.\nPedimo
 s amablemente que los participantes eviten usar fondos virtuales que distr
 aigan. Para mayor privacidad\, recomendamos usar la función de desenfoque
 .\nNo puede tomar esta clase desde un vehículo.\nEl enlace de Zoom para a
 sistir a esta clase se enviará por correo electrónico.\nSiga el enlace a
  continuación para un breve tutorial sobre cómo registrarse para obtener
  una cuenta gratuita de Zoom.\nGuia de Zoom para Usuarios
ATTACH;FMTTYPE=image/jpeg:https://fakce.org/wp-content/uploads/2015/03/000
 019040418.jpg
CATEGORIES:Adoption Classes,Classes,Online Classes
LOCATION:Zoom\, 0000 Zoom \, San Diego\, United States
X-APPLE-STRUCTURED-LOCATION;VALUE=URI;X-ADDRESS=0000 Zoom \, San Diego\, Un
 ited States;X-APPLE-RADIUS=100;X-TITLE=Zoom:geo:0,0
END:VEVENT
BEGIN:VTIMEZONE
TZID:America/Los_Angeles
X-LIC-LOCATION:America/Los_Angeles
BEGIN:STANDARD
DTSTART:20241103T010000
TZOFFSETFROM:-0700
TZOFFSETTO:-0800
TZNAME:PST
END:STANDARD
END:VTIMEZONE
END:VCALENDAR