BEGIN:VCALENDAR
VERSION:2.0
PRODID:-//wp-events-plugin.com//7.2.3.1//EN
TZID:America/Los_Angeles
X-WR-TIMEZONE:America/Los_Angeles
BEGIN:VEVENT
UID:14491@fakce.org
DTSTART;TZID=America/Los_Angeles:20221220T180000
DTEND;TZID=America/Los_Angeles:20221220T210000
DTSTAMP:20221220T214645Z
URL:https://fakce.org/events/cancelado-adoptando-despues-de-la-infertilida
 d-2022-12-20/
SUMMARY:Cancelado | Adoptando Despues De La Infertilidad
DESCRIPTION:***Esta clase se ha cancelado***\nEsta clase es para parejas qu
 e estan experimentando infertilidad \nDiseñado para personas con problema
 s de infertilidad que planean adoptar. Se analizaran temas de dolor y pér
 dida sobre la infertilidad y se examinará cómo eso afecta a los padres p
 or adopción.\nRegistro cerrara el Martes 20 de Diciembre 2022 a las 7am 
 \n&nbsp\;\n***Por Favor Tome Nota:Esta clase se facilitará en la platafor
 ma en línea llamada Zoom. Se requiere acceso a Internet y acceso a una co
 mputadora / computadora portátil / tableta / teléfono inteligente para a
 sistir.\nEl enlace para assistir a esta clase se proveera despues de que s
 e registre.\nSiga el enlace a continuación para obtener un breve tutorial
  sobre cómo registrarse para obtener una cuenta de Zoom gratuita.\nGuía 
 de Zoom para Usuarios
ATTACH;FMTTYPE=image/jpeg:https://fakce.org/wp-content/uploads/2015/03/000
 019040418.jpg
CATEGORIES:Adoption Classes,Classes,Online Classes
LOCATION:Zoom\, 0000 Zoom \, San Diego\, United States
X-APPLE-STRUCTURED-LOCATION;VALUE=URI;X-ADDRESS=0000 Zoom \, San Diego\, Un
 ited States;X-APPLE-RADIUS=100;X-TITLE=Zoom:geo:0,0
END:VEVENT
BEGIN:VTIMEZONE
TZID:America/Los_Angeles
X-LIC-LOCATION:America/Los_Angeles
BEGIN:STANDARD
DTSTART:20221106T010000
TZOFFSETFROM:-0700
TZOFFSETTO:-0800
TZNAME:PST
END:STANDARD
END:VTIMEZONE
END:VCALENDAR